Workbook

Sheet S37 GOU
A1: GOUTERS
A2: Du 7 septembre au 11 septembre 2020
A3: Découverte de la Figue
A5: Tous les repas (entrées plats compotes) sont "FAIT MAISON" à partir de produits frais exclusivement (à l'exception des laitages fromages jus et biscuits) et majoritairement locaux (à l'exeption des poissons, bananes, laitages etc.)
B8: Lundi | C8: Mardi | D8: Mercredi | E8: Jeudi | F8: Vendredi
A10: Grands | B10: Compote de Poire | C10: Fruit de saison | D10: Compote de Poire | F10: Fruit de saison
B11: Pain | C11: Yaourt nature | D11: Semoule au lait | E11: Gateau fourré aux fruits | F11: Cracottes multicéréales
B12: Fromage fondu ail et fines herbes | C12: Petit Beurre au chocolat | E12: Yaourt nature | F12: Emmental
A14: Moyens & Bébés | B14: Compote de Poire | C14: Fruit de saison | D14: Compote de Poire | E14: Compote de Pomme | F14: Compote de Poire
B15: Pain | C15: Yaourt nature | D15: Semoule au lait | E15: Yaourt nature | F15: Petit Suisse
B16: Fromage fondu ail et fines herbes | C16: Petit Beurre | E16: Biscuit bébé | F16: Boudoir
B19: Bio (en vert non gras) | D19: Pêche Durable | E19: Indication géographique protégée | F19: Label Rouge
B20: Bio et Fait Maison (en vert et gras)
B21: Manipulant tous types d’aliments dans notre atelier de cuisine, traces possibles d'allergènes
B22: Pour les bébés et moyens : purées de carottes en complément possibles

Sheet S38 DEJ
A1: DEJEUNERS
A2: Du 14 septembre au 18 septembre 2020
A3: Découverte de la Chayotte
A5: Tous les repas (entrées plats compotes) sont "FAIT MAISON" à partir de produits frais exclusivement (à l'exception des laitages fromages jus et biscuits) et majoritairement locaux (à l'exeption des poissons, bananes, laitages etc.)
B8: Lundi | C8: Mardi | D8: Mercredi | E8: Jeudi | F8: Vendredi
A10: Grands Texture "Morceaux" | B10: Salade verte | C10: Salade de Quinoa aux petits légumes | E10: Salade de Melons et Pastèques à la menthe
B11: Aubergines à la parmesane et sauté de veau | C11: Courge au romarin riz de Camargue et filet de saumon | D11: Couscouuuuus de bœuf (carottes courgettes navets tomates courge céleri paprika coriandre 4 épices) | E11: Chayottes et Courgettes boulgour aux petits oignons et filet de Cabillaud | F11: Carottes et champignons pommes de terre et filet de poulet
D12: Bleu d’Auvergne | E12: Yaourt | F12: Mimolette
B13: Compote Pomme Figue Orange | C13: Fruit de saison | D13: Fruit de saison | F13: Compote Pomme Melon Menthe
A15: Moyens Texture "Ecrasé" | B15: Aubergines à la parmesane et sauté de veau | C15: Courge au romarin riz de Camargue et filet de saumon | D15: Couscouuuuus de bœuf | E15: Chayottes et Courgettes boulgour aux petits oignons et filet de Cabillaud | F15: Carottes et champignons pommes de terre et filet de poulet
B16: Petit Suisse | C16: Yaourt nature | D16: Fromage blanc nature | E16: Yaourt nature | F16: Petit Suisse
B17: Compote Pomme Figue Orange | C17: Compote Banane Poire Passiflore | D17: Compote Pomme Prune Questche | E17: Compote Poire Gingembre | F17: Compote Pomme Raisin Cannelle
A19: Bébés Texture "Purée" | B19: Mixé de Veau | C19: Mixé de Saumon | D19: Mixé de Bœuf | E19: Mixé de Cabillaud | F19: Mixé de Poulet
B20: Purée de Brocolis | C20: Purée de Courges | D20: Purée de Courgettes | E20: Purée de Chayotte | F20: Purée de Blanc de poireau
B21: Purée de pommes de terre | C21: Purée de patates douces | D21: Purée de pommes de terre | E21: Purée de patates douces | F21: Purée de pommes de terre
B22: Compote de Pommes | C22: Compote de Poires | D22: Compote Pomme Prune Questche | E22: Compote de Poires | F22: Compote de Pommes
B25: Bio (en vert non gras) | D25: Pêche Durable | E25: Indication géographique protégée | F25: Label Rouge
B26: Bio et Fait Maison (en vert et gras)
B27: Manipulant tous types d’aliments dans notre atelier de cuisine, traces possibles d'allergènes
B28: Pour les bébés et moyens : purées de carottes en complément possibles

Sheet S38 GOU
A1: GOUTERS
A2: Du 14 septembre au 18 septembre 2020
A3: Découverte de la Chayotte
A5: Tous les repas (entrées plats compotes) sont "FAIT MAISON" à partir de produits frais exclusivement (à l'exception des laitages fromages jus et biscuits) et majoritairement locaux (à l'exeption des poissons, bananes, laitages etc.)
B8: Lundi | C8: Mardi | D8: Mercredi | E8: Jeudi | F8: Vendredi
A10: Grands | B10: Compote Poire | C10: Fruit de saison | D10: Compote Pomme Pastèque Menthe | E10: Jus multifruit | F10: Fruit de saison
B11: Yaourt ar. À la vanille | C11: Petit Suisse | D11: Tapioca au lait | E11: Emmental | F11: Fromage frais à tartiner
B12: Boudoir | C12: Petit Beurre | E12: Biscuit bébé | F12: Biscotte
A14: Moyens & Bébés | B14: Compote Poire | C14: Compote de Pommes | D14: Compote Pomme Pastèque Menthe | E14: Jus multifruit | F14: Compote de Poire
B15: Yaourt nature | C15: Petit Suisse | D15: Tapioca au lait | E15: Fromage blanc | F15: Petit Suisse
B16: Boudoir | C16: Petit Beurre | E16: Biscuit bébé | F16: Boudoir
B19: Bio (en vert non gras) | D19: Pêche Durable | E19: Indication géographique protégée | F19: Label Rouge
B20: Bio et Fait Maison (en vert et gras)
B21: Manipulant tous types d’aliments dans notre atelier de cuisine, traces possibles d'allergènes
B22: Pour les bébés et moyens : purées de carottes en complément possibles

Sheet S39 DEJ
A1: DEJEUNERS
A2: Du 21 septembre au 25 septembre 2020
A3: Découverte du Melon Canari
A5: Tous les repas (entrées plats compotes) sont "FAIT MAISON" à partir de produits frais exclusivement (à l'exception des laitages fromages jus et biscuits) et majoritairement locaux (à l'exeption des poissons, bananes, laitages etc.)
B8: Lundi | C8: Mardi | D8: Mercredi | E8: Jeudi | F8: Vendredi
A10: Grands Texture "Morceaux" | B10: Carottes râpées au jus de citron | E10: Melon à la féta et aneth
B11: Courgettes pommes de terre au pesto et filet de saumon | C11: Veau Marengo revisité | D11: Pâtisson courgettes coquillettes au basilic et filet de poulet | E11: Courge butternut quinoa à l'échalotte et filet de bœuf à la coriandre | F11: Ratatouille de légumes boulgour et dos de Cabillaud
C12: Yaourt nature | D12: Coulommier | F12: Mimolette
B13: =B17 -> Compote Pomme Pastèque Eucalyptus | C13: Fruit de saison | D13: =D17 -> Compote Pomme Melon Canari | E13: =E17 -> Compote Pomme Raisin Cardamome | F13: Fruit de saison
A15: Moyens Texture "Ecrasé" | B15: =B11 -> Courgettes pommes de terre au pesto et filet de saumon | C15: =C11 -> Veau Marengo revisité | D15: =D11 -> Pâtisson courgettes coquillettes au basilic et filet de poulet | E15: =E11 -> Courge butternut quinoa à l'échalotte et filet de bœuf à la coriandre | F15: =F11 -> Ratatouille de légumes boulgour et dos de Cabillaud
B16: Petit Suisse | C16: Yaourt nature | D16: Fromage blanc nature | E16: Petit Suisse | F16: Yaourt nature
B17: Compote Pomme Pastèque Eucalyptus | C17: Compote Poire Réglisse | D17: Compote Pomme Melon Canari | E17: Compote Pomme Raisin Cardamome | F17: Compote Banane Pomme Epices
A19: Bébés Texture "Purée" | B19: Mixé de Saumon | C19: Mixé de Veau | D19: Mixé de Poulet | E19: Mixé de Bœuf | F19: Mixé de Cabillaud
B20: Purée de Courgettes | C20: Purée de Brocolis | D20: Purée de Pâtisson | E20: Purée de Courge butternut | F20: Purée de Haricots verts
B21: Purée de pommes de terre | C21: Purée de patates douces | D21: Purée de pommes de terre | E21: Purée de patates douces | F21: Purée de pommes de terre
B22: Compote de Pommes | C22: Compote de Poires | D22: Compote de Pommes ou Compote Pomme Melon Canari | E22: Compote de Poires | F22: Compote de Pommes
B25: Bio (en vert non gras) | D25: Pêche Durable | E25: Indication géographique protégée | F25: Label Rouge
B26: Bio et Fait Maison (en vert et gras)
B27: Manipulant tous types d’aliments dans notre atelier de cuisine, traces possibles d'allergènes
B28: Pour les bébés et moyens : purées de carottes en complément possibles

Sheet S39 GOU
A1: GOUTERS
A2: Du 21 septembre au 25 septembre 2020
A3: ='S39 DEJ'!A3:F3 -> Découverte du Melon Canari
A5: Tous les repas (entrées plats compotes) sont "FAIT MAISON" à partir de produits frais exclusivement (à l'exception des laitages fromages jus et biscuits) et majoritairement locaux (à l'exeption des poissons, bananes, laitages etc.)
B8: Lundi | C8: Mardi | D8: Mercredi | E8: Jeudi | F8: Vendredi
A10: Grands | B10: Fruits de saison | C10: Confiture | D10: Compote de Poire | E10: Compote Pomme Melon | F10: Fruits de saison
B11: Yaourt nature | C11: Pain | D11: Petit Suisse | E11: Yaourt nature | F11: Fromage Blanc
B12: Petit Beurre | C12: Verre de lait | D12: Biscuit Bébé | E12: Palmier | F12: Boudoir
A14: Moyens & Bébés | B14: Compote de Poire | C14: Compote de Pomme | D14: Compote de Poire | E14: Compote Pomme Melon | F14: Compote de Poire
B15: Yaourt nature | C15: Fromage Blanc | D15: Petit Suisse | E15: Yaourt nature | F15: Fromage Blanc
B16: Petit Beurre | C16: Quignon de pain | D16: Biscuit Bébé | E16: Petit Beurre | F16: Boudoir
B19: Bio (en vert non gras) | D19: Pêche Durable | E19: Indication géographique protégée | F19: Label Rouge
B20: Bio et Fait Maison (en vert et gras)
B21: Manipulant tous types d’aliments dans notre atelier de cuisine, traces possibles d'allergènes
B22: Pour les bébés et moyens : purées de carottes en complément possibles

Sheet S40 DEJ
A1: DEJEUNERS
A2: Du 28 septembre au 2 octobre 2020
A3: Découverte de la Patate Douce
A5: Tous les repas (entrées plats compotes) sont "FAIT MAISON" à partir de produits frais exclusivement (à l'exception des laitages fromages jus et biscuits) et majoritairement locaux (à l'exeption des poissons, bananes, laitages etc.)
B8: Lundi | C8: Mardi | D8: Mercredi | E8: Jeudi | F8: Vendredi
A10: Grands Texture "Morceaux" | B10: Tomates Mozzarella pointe de basilic | D10: Salade de Pâtes
B11: Courge spaghetti et semoule aux poivrons et sauté de veau | C11: Courgettes patate douce et filet de saumon | D11: Carottes au curry pommes de terre et poulet tandoori | E11: Légumes d'été pâtes à la cardamome et filet de bœuf | F11: Potiron boulgour et dos de Cabillaud
C12: =C16 -> Yaourt nature | D12: Emmental | E12: =E16 -> Fromage blanc nature | F12: Bleu d'Auvergne
B13: Fruit de saison | C13: =C17 -> Compote Pomme Melon Vanille | D13: =D17 -> Compote Banane Pomme Citronnelle | E13: Fruit de saison | F13: =E13 -> Fruit de saison
A15: Moyens Texture "Ecrasé" | B15: =B11 -> Courge spaghetti et semoule aux poivrons et sauté de veau | C15: =C11 -> Courgettes patate douce et filet de saumon | D15: =D11 -> Carottes au curry pommes de terre et poulet tandoori | E15: =E11 -> Légumes d'été pâtes à la cardamome et filet de bœuf | F15: =F11 -> Potiron boulgour et dos de Cabillaud
B16: Fromage blanc | C16: Yaourt nature | D16: Petit Suisse | E16: Fromage blanc nature | F16: Yaourt nature
B17: Compote Poire Verveine | C17: Compote Pomme Melon Vanille | D17: Compote Banane Pomme Citronnelle | E17: Compote Pomme Raisin Cardamome | F17: Compote Pomme Prune Menthe
A19: Bébés Texture "Purée" | B19: Mixé de Veau | C19: Mixé de Saumon | D19: Mixé de Poulet | E19: Mixé de Bœuf | F19: Mixé de Cabillaud
B20: Purée de Courge Spaghetti | C20: Purée de Courgettes | D20: Purée de Brocolis | E20: Purée de Blanc de Poireau | F20: Purée de Potiron
B21: Purée de pommes de terre | C21: Purée de patates douces | D21: Purée de pommes de terre | E21: Purée de patates douces | F21: Purée de pommes de terre
B22: Compote de Pommes | C22: Compote de Poires | D22: Compote de Pommes | E22: Compote de Poires | F22: =D22 -> Compote de Pommes
B25: Bio (en vert non gras) | D25: Pêche Durable | E25: Indication géographique protégée | F25: Label Rouge
B26: Bio et Fait Maison (en vert et gras)
B27: Manipulant tous types d’aliments dans notre atelier de cuisine, traces possibles d'allergènes
B28: Pour les bébés et moyens : purées de carottes en complément possibles

Sheet S40 GOU
A1: GOUTERS
A2: ='S40 DEJ'!A2:F2 -> Du 28 septembre au 2 octobre 2020
A3: ='S40 DEJ'!A3:F3 -> Découverte de la Patate Douce
A5: Tous les repas (entrées plats compotes) sont "FAIT MAISON" à partir de produits frais exclusivement (à l'exception des laitages fromages jus et biscuits) et majoritairement locaux (à l'exeption des poissons, bananes, laitages etc.)
B8: Lundi | C8: Mardi | D8: Mercredi | E8: Jeudi | F8: Vendredi
A10: Grands | B10: Compote de Pomme | C10: Fruit de saison | D10: Fruit de saison | E10: Compote de Poire | F10: Fruit de saison
B11: Petit Suisse | C11: Fromage blanc nature | D11: Yaourt nature | E11: Fromage fondu nature | F11: Fromage blanc nature
B12: Barquette à la fraise | C12: Madeleines | D12: Palmier | E12: Pain | F12: Biscuit Bébé
A14: Moyens & Bébés | B14: Compote de Pomme | C14: Compote de Poire | D14: Compote de Pomme | E14: Compote de Poire | F14: Compote de Pomme
B15: Petit Suisse | C15: Fromage blanc nature | D15: Yaourt nature | E15: Petit Suisse | F15: =C15 -> Fromage blanc nature
B16: Biscuit Bébé | C16: Madeleines | D16: Boudoir | E16: Quignon de pain | F16: Biscuit Bébé
B19: Bio (en vert non gras) | D19: Pêche Durable | E19: Indication géographique protégée | F19: Label Rouge
B20: Bio et Fait Maison (en vert et gras)
B21: Manipulant tous types d’aliments dans notre atelier de cuisine, traces possibles d'allergènes
B22: Pour les bébés et moyens : purées de carottes en complément possibles

Sheet S45-DEJ 
A3: MENUS
A4: Du 02 au 06 Novembre 2026
A5: Découverte de l'Ananas et du Chou frisé
B7: Lundi | C7: Mardi | D7: Mercredi | E7: Jeudi | F7: Vendredi
A9: Grands Texture "Morceaux" | C9: Salade de Betteraves à l'Aneth et citron vert | D9: Cake emmental et tomates séchées* (lait, œuf, gluten, sulfites) | E9: Salade de pommes de terre, menthe et cébettes
B10: Epinards à la crème (lait) Pâtes* à la citronnelle et cuisses de poulet | C10: Chou frisé au cumin, Pomme de terre et poisson du jour* à l'Oseille | D10: Courges aux herbes de provence, riz et lentilles vertes au jus de coco | E10: Fricassée de Brocolis, Polenta à la crème d'ail (lait) et poisson du jour* | F10: Couscous (Carottes, navets aux 4 épices) Semoule* au Ras el-hanout et Boeuf
A11: Goûter | B11: Compote Pomme Nashi | C11: Compote Pomme Fleur d'oranger | D11: Compote Pomme Banane Cannelle | E11: Compote Pomme Poire Verveine | F11: Compote Pomme Ananas
A13: Moyens Texture "Ecrasé" | B13: Epinards à la crème (lait) Pâtes* à la citronnelle et mixé de poulet | C13: Chou frisé au cumin, Pomme de terre à l'oseille et mixé de poisson du jour* | D13: Courges aux herbes de provence, riz au jus de coco et mixé de poulet | E13: Fricassée de Brocolis, Polenta à la crème d'ail (lait) et mixé de poisson du jour* | F13: Couscous (Carottes, navets aux 4 épices) Semoule* au Ras el-hanout et mixé de bœuf
A14: Goûter | B14: Compote Pomme Nashi | C14: Compote Pomme Fleur d'oranger | D14: Compote Pomme Banane Cannelle | E14: Compote Pomme Poire Verveine | F14: Compote Pomme Ananas
A16: Bébés Texture "Purée" | B16: Mixé de Poulet | C16: Mixé de Poisson du jour* | D16: Mixé de Poulet | E16: Mixé de Poisson du jour* | F16: Mixé de Boeuf
B17: Purée d'Epinards | C17: Purée de Chou frisé | D17: Purée de Courge | E17: Purée de Brocolis | F17: Purée de Carottes
B18: Purée de pommes de terre | C18: Purée de patates douces | D18: Purée de lentilles vertes | E18: Purée de polenta fine | F18: Purée de pois cassés
A19: Goûter | B19: Compote Pomme Nashi | C19: Compote Pomme | D19: Compote Pomme Banane | E19: Compote Pomme Poire | F19: Compote Pomme
A21: Introduction | B21: =B17 -> Purée d'Epinards | C21: =C17 -> Purée de Chou frisé | D21: =D17 -> Purée de Courge | E21: =E17 -> Purée de Brocolis | F21: =F17 -> Purée de Carottes
A22: Goûter | B22: =B19 -> Compote Pomme Nashi | C22: =C19 -> Compote Pomme | D22: =D19 -> Compote Pomme Banane | E22: =E19 -> Compote Pomme Poire | F22: =F19 -> Compote Pomme
B25: Bio (en vert non gras) | C25: Bio et Fait Maison (en vert et gras) | D25: Tous les Poissons : NON BIO | E25: Recette végétarienne | F25: (lait) ou * Allergènes à déclaration obligatoire
B26: Manipulant tous types d’aliments dans notre atelier de cuisine, traces possibles d'allergènes
B27: Toutes nos viandes sont d'origine française

Sheet S46-DEJ
A3: MENUS
A4: Du 09 au 13 Novembre 2026
A5: Découverte de la Clémentine et du Chou Chinois
B7: Lundi | C7: Mardi | D7: Mercredi | E7: Jeudi | F7: Vendredi
A9: Grands Texture "Morceaux" | C9: Velouté de panais (PDT et féta) *(lait) | F9: Salade des Antilles (patates douces, gingembre, citronnelle)
B10: Courge butternut et Rutabaga, Pommes de terre et poisson du jour* à la crème de fenouil (lait) | C10: Poireaux et Epinards à l'huile d'olive Boulgour* au bouillon de légumes et Filet de Poulet au citron | E10: Bœuf Bourguignon revisité (Carottes, champignons, jus de raisin et riz) | F10: Chou chinois braisé, Millet au curcuma et pois chiches sauce yaourt (lait) citronné
A11: Goûter | B11: Compote Pomme Clémentine | C11: Compote Pomme Jus de coco | E11: Compote Pomme Banane | F11: Compote Pomme Pomelo Vanille
A13: Moyens Texture "Ecrasé" | B13: Courge butternut et Rutabaga, Pommes de terre à la crème de fenouil (lait) et poisson du jour* | C13: Poireaux et Epinards à l'huile d'olive Boulgour* au bouillon de légumes et mixé de poulet | E13: Bœuf Bourguignon revisité (Carottes, champignons, jus de raisin et riz) | F13: Chou chinois braisé sauce yaourt (lait) citronné, Millet au curcuma et mixé de poulet
A14: Goûter | B14: Compote Pomme Clémentine | C14: Compote Pomme Jus de coco | E14: Compote Pomme Banane | F14: Compote Pomme Pomelo Vanille
A16: Bébés Texture "Purée" | B16: Mixé de Poisson du jour* | C16: Mixé de Poulet | E16: Mixé de Bœuf | F16: Mixé de Poulet
B17: Purée de Courge butternut | C17: Purée d'Epinards | E17: Purée de Carottes | F17: Purée de Blanc de poireau
B18: Purée de pois cassés | C18: Purée de lentilles corail | E18: Purée de pommes de terre | F18: Purée de patates douces
A19: Goûter | B19: Compote Pomme Clémentine | C19: Compote Pomme | E19: Compote Pomme Banane | F19: Compote Pomme Pomelo
A21: Introduction | B21: =B17 -> Purée de Courge butternut | C21: =C17 -> Purée d'Epinards | E21: =E17 -> Purée de Carottes | F21: =F17 -> Purée de Blanc de poireau
A22: Goûter | B22: =B19 -> Compote Pomme Clémentine | C22: =C19 -> Compote Pomme | E22: =E19 -> Compote Pomme Banane | F22: =F19 -> Compote Pomme Pomelo
B24: Bio (en vert non gras) | C24: Bio et Fait Maison (en vert et gras) | D24: Tous les Poissons : NON BIO | E24: Recette végétarienne | F24: (lait) ou * Allergènes à déclaration obligatoire
B25: Manipulant tous types d’aliments dans notre atelier de cuisine, traces possibles d'allergènes
B26: Toutes nos viandes sont d'origine française

Sheet S47-DEJ
A3: MENUS
A4: Du 16 au 20 Novembre 2026
A5: Découverte du Jujube
B7: Lundi | C7: Mardi | D7: Mercredi | E7: Jeudi | F7: Vendredi
A9: Grands Texture "Morceaux" | B9: Soupe de radis roses* (oeufs, lait) | D9: Salade de pois chiches aux oignons et cumin | E9: Velouté de légumes de Mamie*
B10: Chou-fleur au parmesan (lait), pâtes* à l'huile d'olive et lentilles corail aux agrumes (orange, pamplemousse, citron) | C10: Bœuf à la Provençale (carotte, oignons, herbes de Provence) et purée de pommes de terre à l'origan | D10: Purée de betteraves rouges (ciboulette et balsamique), riz pilaf et poisson du jour* | E10: Epinards à l'ail, quinoa à la crème* (lait) et poulet aux champignons | F10: Chou chinois, risotto de sarrasin à la crème* (lait) et poisson du jour* à la verveine
A11: Goûter | B11: Compote Pomme Raisin | C11: Compote Pomme Banane Citron | D11: Compote Pomme Poire Menthe | E11: Compote Pomme Grenade | F11: Compote Pomme Jujube
A13: Moyens Texture "Ecrasé" | B13: Chou-fleur au parmesan (lait), pâtes* à l'huile d'olive et agrumes (orange, pamplemousse, citron) et mixé de poulet | C13: Boeuf à la Provençale (carotte, oignons, herbes de Provence) et purée de pommes de terre à l'origan et mixé de Bœuf | D13: Purée de betteraves rouges (ciboulette et balsamique), riz pilaf et mixé de poisson du jour* | E13: Epinards à l'ail, quinoa à la crème* (lait) et aux champignons et mixé de poulet | F13: Chou chinois à la verveine, risotto de sarrasin à la crème* (lait) et mixé de poisson du jour*
A14: Goûter | B14: Compote Pomme Raisin | C14: Compote Pomme Banane Citron | D14: Compote Pomme Poire Menthe | E14: Compote Pomme Grenade | F14: Compote Pomme Jujube
A16: Bébés Texture "Purée" | B16: Mixé de Poulet | C16: Mixé de Bœuf | D16: Mixé de Poisson du jour* | E16: Mixé de Poulet | F16: Mixé de Poisson du jour*
B17: Purée de Chou-fleur | C17: Purée de Carottes | D17: Purée de Betteraves | E17: Purée d'Epinards | F17: Purée de Chou chinois
B18: Purée de lentilles corail | C18: Purée de Pommes de terre | D18: Purée de polenta fine | E18: Purée de patates douces | F18: Purée de pois cassés
A19: Goûter | B19: Compote Pomme Raisin | C19: Compote Pomme Banane | D19: Compote Pomme Poire | E19: Compote Pomme | F19: Compote Pomme
A21: Introduction | B21: =B17 -> Purée de Chou-fleur | C21: =C17 -> Purée de Carottes | D21: =D17 -> Purée de Betteraves | E21: =E17 -> Purée d'Epinards | F21: Purée de Chou chinois
A22: Goûter | B22: Compote Pomme Raisin | C22: =C19 -> Compote Pomme Banane | D22: =D19 -> Compote Pomme Poire | E22: =E19 -> Compote Pomme | F22: =F19 -> Compote Pomme
B25: Bio (en vert non gras) | C25: Bio et Fait Maison (en vert et gras) | D25: Tous les Poissons : NON BIO | E25: Recette végétarienne | F25: (lait) ou * Allergènes à déclaration obligatoire
B26: Manipulant tous types d’aliments dans notre atelier de cuisine, traces possibles d'allergènes
B27: Toutes nos viandes sont d'origine française

Sheet S37 DEJ
A1: DEJEUNERS
A2: Du 7 septembre au 11 septembre 2020
A3: Découverte de la Figue
A5: Tous les repas (entrées plats compotes) sont "FAIT MAISON" à partir de produits frais exclusivement (à l'exception des laitages fromages jus et biscuits) et majoritairement locaux (à l'exeption des poissons, bananes, laitages etc.)
B8: Lundi | C8: Mardi | D8: Mercredi | E8: Jeudi | F8: Vendredi
A10: Grands Texture "Morceaux" | B10: Salade de millet aux petits légumes | D10: Salade de concombres à la menthe | F10: Tomates vinaigrette
B11: Pâtisson et courgettes à l’aneth, riz de Camargue au romarin et sauté de bœuf | C11: Chorba marocaine revisitée au poulet | D11: Aioiliiii de septembre au Cabillaud | E11: Potimarron à la muscade semoule aux herbes de Provence et sauté de veau | F11: Petite Blanquette au Saumon
C12: Camembert | D12: Petit Suisse | E12: Emmental | F12: Yaourt nature
B13: Fruit de saison | C13: Compote Pomme Figue | D13: Fruit de saison | E13: Fruit de saison | F13: Compote Poire Prune
A15: Moyens Texture "Ecrasé" | B15: Pâtisson et courgettes à l’aneth, riz de Camargue au romarin et sauté de bœuf | C15: Chorba marocaine revisitée au poulet (carottes navets tomates poireau pdt vermicelles conc. tom. céleri persil coriandre oignons curcuma) | D15: Aioiliiii de septembre au Cabillaud | E15: Potimarron à la muscade semoule aux herbes de Provence et sauté de veau | F15: Petite Blanquette au Saumon
B16: Yaourt nature | C16: Fromage blanc nature | D16: Petit Suisse | E16: Fromage blanc nature | F16: Yaourt nature
B17: Compote Pomme Pastèque Basilic | C17: Compote Pomme Figue | D17: Compote Pomme Verveine | E17: Compote Banane Pomme Citron | F17: Compote Poire Prune
A19: Bébés Texture "Purée" | B19: Mixé de Bœuf | C19: Mixé de Poulet | D19: Mixé de Cabillaud | E19: Mixé de Veau | F19: Mixé de Saumon
B20: Purée de Pâtisson | C20: Purée de Blanc de Poireau | D20: Purée de Haricots verts | E20: Purée de Potimarron | F20: Purée de Courgettes
B21: Purée de pommes de terre | C21: Purée de patates douces | D21: Purée de pommes de terre | E21: Purée de pommes de terre | F21: Purée de patates douces
B22: Compote de Pommes | C22: Compote Pomme Figue | D22: Compote de Pommes | E22: Compote de Poires | F22: Compote de Pommes
B25: Bio (en vert non gras) | D25: Pêche Durable | E25: Indication géographique protégée | F25: Label Rouge
B26: Bio et Fait Maison (en vert et gras)
B27: Manipulant tous types d’aliments dans notre atelier de cuisine, traces possibles d'allergènes
B28: Pour les bébés et moyens : purées de carottes en complément possibles

Sheet S48-DEJ
A3: MENUS
A4: Du 23 au 27 Novembre 2026
A5: Découverte du Chou vert lisse et des Nèfles
B7: Lundi | C7: Mardi | D7: Mercredi | E7: Jeudi | F7: Vendredi
A9: Grands Texture "Morceaux" | B9: Salade de pâtes* (radis, fenouil, échalote) | C9: Velouté de brocolis (lait et œuf) | E9: Salade de patates douces au citron vert
B10: Fondue de poireaux à la crème (lait), Riz au persil et Poisson du jour* | C10: Minestrone végétarien (carottes, haricots rouges, poireaux, celeri branche*) pâtes* au bouillon | D10: Epinards au Bleu d'Auvergne (lait) pommes de terre à l'huile d'olive et Bœuf aux olives vertes | E10: Chou vert lisse à la moutarde à l'ancienne* (mout.,sulf.) semoule de petit épeautre* et poulet au thym citronné | F10: Courge façon Vichy (persil) et Millet au bouillon et Poisson du jour* au romarin
A11: Goûter | B11: Compote Pomme Nèfles | C11: Compote Pomme Orange | D11: Compote Pomme Poire Lavande | E11: Compote Pomme Ananas Vanille | F11: Compote Pomme Banane Réglisse
A13: Moyens Texture "Ecrasé" | B13: Fondue de poireaux à la crème (lait), Riz au persil et mixé de Poisson du jour* | C13: Minestrone (carottes, poireaux, celeri branche* pâtes* au bouillon et mixé de poulet | D13: Epinards au Bleu d'Auvergne (lait) pommes de terre aux olives vertes et mixé de Bœuf | E13: Chou vert lisse à la moutarde à l'ancienne* (mout.,sulf.) semoule de petit épeautre * au thym citronné et mixé de poulet | F13: Courge façon Vichy (persil) et millet au bouillon et romarin et mixé de Poisson du jour*
A14: Goûter | B14: Compote Pomme Nèfles | C14: Compote Pomme Orange | D14: Compote Pomme Poire Lavande | E14: Compote Pomme Ananas Vanille | F14: Compote Pomme Banane Réglisse
A16: Bébés Texture "Purée" | B16: Mixé de Poisson du jour* | C16: Mixé de Poulet | D16: Mixé de Boeuf | E16: Mixé de Poulet | F16: Mixé de Poisson du jour*
B17: Purée de Blanc de poireaux | C17: Purée de Carotte | D17: Purée d'Epinard | E17: Purée de Brocolis | F17: Purée de Courges
B18: Purée de polenta fine | C18: Purée de pommes de terre | D18: Purée de lentilles corail | E18: Purée de patates douces | F18: Purée de pois cassés
A19: Goûter | B19: Compote Pomme | C19: Compote Pomme Orange | D19: Compote Pomme poire | E19: Compote Pomme Ananas | F19: Compote Pomme Banane
A21: Introduction | B21: =B17 -> Purée de Blanc de poireaux | C21: =C17 -> Purée de Carotte | D21: =D17 -> Purée d'Epinard | E21: =E17 -> Purée de Brocolis | F21: =F17 -> Purée de Courges
A22: Goûter | B22: =B19 -> Compote Pomme | C22: =C19 -> Compote Pomme Orange | D22: =D19 -> Compote Pomme poire | E22: =E19 -> Compote Pomme Ananas | F22: =F19 -> Compote Pomme Banane
B25: Bio (en vert non gras) | C25: Bio et Fait Maison (en vert et gras) | D25: Tous les Poissons : NON BIO | E25: Recette végétarienne | F25: (lait) ou * Allergènes à déclaration obligatoire
B26: Manipulant tous types d’aliments dans notre atelier de cuisine, traces possibles d'allergènes
B27: Toutes nos viandes sont d'origine française

Sheet Allergènes
B1: Allergènes
B2: Gluten | C2: Lait | D2: Poissons | E2: Céleri | F2: Crustacés | G2: Soja | H2: Sésame | I2: Sulfites | J2: Oeufs | K2: Fruits à coques | L2: Lupin | M2: Mollusques | N2: Arachides | O2: Moutarde
A4: ='S45-DEJ '!A4 -> Du 02 au 06 Novembre 2026
A5: ='S45-DEJ '!C9 -> Salade de Betteraves à l'Aneth et citron vert
A6: ='S45-DEJ '!D9 -> Cake emmental et tomates séchées* (lait, œuf, gluten, sulfites) | B6: X | C6: X | I6: X | J6: X
A7: ='S45-DEJ '!E9 -> Salade de pommes de terre, menthe et cébettes
A8: ='S45-DEJ '!B10 -> Epinards à la crème (lait) Pâtes* à la citronnelle et cuisses de poulet | B8: X | C8: X
A9: ='S45-DEJ '!C13 -> Chou frisé au cumin, Pomme de terre à l'oseille et mixé de poisson du jour* | D9: X
A10: ='S45-DEJ '!D13 -> Courges aux herbes de provence, riz au jus de coco et mixé de poulet
A11: ='S45-DEJ '!E13 -> Fricassée de Brocolis, Polenta à la crème d'ail (lait) et mixé de poisson du jour* | C11: X | D11: X
A12: ='S45-DEJ '!F13 -> Couscous (Carottes, navets aux 4 épices) Semoule* au Ras el-hanout et mixé de bœuf | B12: X
A13: ='S45-DEJ '!B14 -> Compote Pomme Nashi
A14: ='S45-DEJ '!C14 -> Compote Pomme Fleur d'oranger
A15: ='S45-DEJ '!D14 -> Compote Pomme Banane Cannelle
A16: ='S45-DEJ '!E14 -> Compote Pomme Poire Verveine
A17: ='S45-DEJ '!F14 -> Compote Pomme Ananas
A18: ='S45-DEJ '!B16 -> Mixé de Poulet
A19: ='S45-DEJ '!C16 -> Mixé de Poisson du jour* | D19: X
A20: ='S45-DEJ '!D16 -> Mixé de Poulet
A21: ='S45-DEJ '!E16 -> Mixé de Poisson du jour* | D21: X
A22: ='S45-DEJ '!F16 -> Mixé de Boeuf
A23: ='S45-DEJ '!B17 -> Purée d'Epinards
A24: ='S45-DEJ '!C17 -> Purée de Chou frisé
A25: ='S45-DEJ '!D17 -> Purée de Courge
A26: ='S45-DEJ '!E17 -> Purée de Brocolis
A27: ='S45-DEJ '!F17 -> Purée de Carottes
A28: ='S45-DEJ '!B18 -> Purée de pommes de terre
A29: ='S45-DEJ '!C18 -> Purée de patates douces
A30: ='S45-DEJ '!D18 -> Purée de lentilles vertes
A31: ='S45-DEJ '!E18 -> Purée de polenta fine
A32: ='S45-DEJ '!F18 -> Purée de pois cassés
A33: ='S45-DEJ '!B19 -> Compote Pomme Nashi
A34: ='S45-DEJ '!C19 -> Compote Pomme
A35: ='S45-DEJ '!D19 -> Compote Pomme Banane
A36: ='S45-DEJ '!E19 -> Compote Pomme Poire
A37: ='S45-DEJ '!F19 -> Compote Pomme
A38: ='S46-DEJ'!A4:F4 -> Du 09 au 13 Novembre 2026
A39: ='S46-DEJ'!C9 -> Velouté de panais (PDT et féta) *(lait) | B39: X
A40: ='S46-DEJ'!D9 -> 0
A41: ='S46-DEJ'!F9 -> Salade des Antilles (patates douces, gingembre, citronnelle)
A42: =+'S46-DEJ'!B10 -> Courge butternut et Rutabaga, Pommes de terre et poisson du jour* à la crème de fenouil (lait) | C42: X | D42: X
A43: ='S46-DEJ'!$C$10 -> Poireaux et Epinards à l'huile d'olive Boulgour* au bouillon de légumes et Filet de Poulet au citron | B43: X
A44: ='S46-DEJ'!$D$10 -> 0
A45: ='S46-DEJ'!E10 -> Bœuf Bourguignon revisité (Carottes, champignons, jus de raisin et riz)
A46: ='S46-DEJ'!$F$10 -> Chou chinois braisé, Millet au curcuma et pois chiches sauce yaourt (lait) citronné | C46: X
A47: =+'S46-DEJ'!B11 -> Compote Pomme Clémentine
A48: ='S46-DEJ'!C11 -> Compote Pomme Jus de coco
A49: =+'S46-DEJ'!D11 -> 0
A50: ='S46-DEJ'!E11 -> Compote Pomme Banane
A51: ='S46-DEJ'!F11 -> Compote Pomme Pomelo Vanille
A52: ='S46-DEJ'!B16 -> Mixé de Poisson du jour* | D52: X
A53: ='S46-DEJ'!C16 -> Mixé de Poulet
A54: ='S46-DEJ'!D16 -> 0
A55: ='S46-DEJ'!E16 -> Mixé de Bœuf
A56: ='S46-DEJ'!F16 -> Mixé de Poulet
A57: ='S46-DEJ'!B17 -> Purée de Courge butternut
A58: ='S46-DEJ'!C17 -> Purée d'Epinards
A59: ='S46-DEJ'!D17 -> 0
A60: ='S46-DEJ'!E17 -> Purée de Carottes
A61: ='S46-DEJ'!F17 -> Purée de Blanc de poireau
A62: ='S46-DEJ'!B18 -> Purée de pois cassés
A63: ='S46-DEJ'!C18 -> Purée de lentilles corail
A64: ='S46-DEJ'!D18 -> 0
A65: ='S46-DEJ'!E18 -> Purée de pommes de terre
A66: ='S46-DEJ'!F18 -> Purée de patates douces
A67: ='S46-DEJ'!B19 -> Compote Pomme Clémentine
A68: ='S46-DEJ'!C19 -> Compote Pomme
A69: ='S46-DEJ'!D19 -> 0
A70: ='S46-DEJ'!E19 -> Compote Pomme Banane
A71: ='S46-DEJ'!F19 -> Compote Pomme Pomelo
A73: ='S47-DEJ'!A4:F4 -> Du 16 au 20 Novembre 2026
A74: ='S47-DEJ'!B9 -> Soupe de radis roses* (oeufs, lait) | C74: X | J74: X
A75: ='S47-DEJ'!D9 -> Salade de pois chiches aux oignons et cumin
A76: ='S47-DEJ'!E9 -> Velouté de légumes de Mamie* | E76: X
A77: ='S47-DEJ'!B10 -> Chou-fleur au parmesan (lait), pâtes* à l'huile d'olive et lentilles corail aux agrumes (orange, pamplemousse, citron) | B77: X | C77: X
A78: ='S47-DEJ'!C10 -> Bœuf à la Provençale (carotte, oignons, herbes de Provence) et purée de pommes de terre à l'origan
A79: ='S47-DEJ'!D10 -> Purée de betteraves rouges (ciboulette et balsamique), riz pilaf et poisson du jour* | D79: X
A80: ='S47-DEJ'!E10 -> Epinards à l'ail, quinoa à la crème* (lait) et poulet aux champignons | C80: X
A81: ='S47-DEJ'!F10 -> Chou chinois, risotto de sarrasin à la crème* (lait) et poisson du jour* à la verveine | C81: X | D81: X
A82: =+'S47-DEJ'!B11 -> Compote Pomme Raisin
A83: =+'S47-DEJ'!C11 -> Compote Pomme Banane Citron
A84: =+'S47-DEJ'!D11 -> Compote Pomme Poire Menthe
A85: =+'S47-DEJ'!E11 -> Compote Pomme Grenade
A86: =+'S47-DEJ'!F11 -> Compote Pomme Jujube
A87: =+'S47-DEJ'!B16 -> Mixé de Poulet
A88: =+'S47-DEJ'!C16 -> Mixé de Bœuf
A89: =+'S47-DEJ'!D16 -> Mixé de Poisson du jour* | D89: X
A90: =+'S47-DEJ'!E16 -> Mixé de Poulet
A91: =+'S47-DEJ'!F16 -> Mixé de Poisson du jour* | D91: X
A92: =+'S47-DEJ'!B17 -> Purée de Chou-fleur
A93: =+'S47-DEJ'!C17 -> Purée de Carottes
A94: =+'S47-DEJ'!D17 -> Purée de Betteraves
A95: =+'S47-DEJ'!E17 -> Purée d'Epinards
A96: =+'S47-DEJ'!F17 -> Purée de Chou chinois
A97: =+'S47-DEJ'!B18 -> Purée de lentilles corail
A98: =+'S47-DEJ'!C18 -> Purée de Pommes de terre
A99: =+'S47-DEJ'!D18 -> Purée de polenta fine
A100: =+'S47-DEJ'!E18 -> Purée de patates douces
A101: =+'S47-DEJ'!F18 -> Purée de pois cassés
A102: =+'S47-DEJ'!B19 -> Compote Pomme Raisin
...
