Workbook

Sheet S37 GOU
A1: GOUTERS
A2: Du 7 septembre au 11 septembre 2020
A3: Découverte de la Figue
A5: Tous les repas (entrées plats compotes) sont "FAIT MAISON" à partir de produits frais exclusivement (à l'exception des laitages fromages jus et biscuits) et majoritairement locaux (à l'exeption des poissons, bananes, laitages etc.)
B8: Lundi | C8: Mardi | D8: Mercredi | E8: Jeudi | F8: Vendredi
A10: Grands | B10: Compote de Poire | C10: Fruit de saison | D10: Compote de Poire | F10: Fruit de saison
B11: Pain | C11: Yaourt nature | D11: Semoule au lait | E11: Gateau fourré aux fruits | F11: Cracottes multicéréales
B12: Fromage fondu ail et fines herbes | C12: Petit Beurre au chocolat | E12: Yaourt nature | F12: Emmental
A14: Moyens & Bébés | B14: Compote de Poire | C14: Fruit de saison | D14: Compote de Poire | E14: Compote de Pomme | F14: Compote de Poire
B15: Pain | C15: Yaourt nature | D15: Semoule au lait | E15: Yaourt nature | F15: Petit Suisse
B16: Fromage fondu ail et fines herbes | C16: Petit Beurre | E16: Biscuit bébé | F16: Boudoir
B19: Bio (en vert non gras) | D19: Pêche Durable | E19: Indication géographique protégée | F19: Label Rouge
B20: Bio et Fait Maison (en vert et gras)
B21: Manipulant tous types d’aliments dans notre atelier de cuisine, traces possibles d'allergènes
B22: Pour les bébés et moyens : purées de carottes en complément possibles

Sheet S38 DEJ
A1: DEJEUNERS
A2: Du 14 septembre au 18 septembre 2020
A3: Découverte de la Chayotte
A5: Tous les repas (entrées plats compotes) sont "FAIT MAISON" à partir de produits frais exclusivement (à l'exception des laitages fromages jus et biscuits) et majoritairement locaux (à l'exeption des poissons, bananes, laitages etc.)
B8: Lundi | C8: Mardi | D8: Mercredi | E8: Jeudi | F8: Vendredi
A10: Grands Texture "Morceaux" | B10: Salade verte | C10: Salade de Quinoa aux petits légumes | E10: Salade de Melons et Pastèques à la menthe
B11: Aubergines à la parmesane et sauté de veau | C11: Courge au romarin riz de Camargue et filet de saumon | D11: Couscouuuuus de bœuf (carottes courgettes navets tomates courge céleri paprika coriandre 4 épices) | E11: Chayottes et Courgettes boulgour aux petits oignons et filet de Cabillaud | F11: Carottes et champignons pommes de terre et filet de poulet
D12: Bleu d’Auvergne | E12: Yaourt | F12: Mimolette
B13: Compote Pomme Figue Orange | C13: Fruit de saison | D13: Fruit de saison | F13: Compote Pomme Melon Menthe
A15: Moyens Texture "Ecrasé" | B15: Aubergines à la parmesane et sauté de veau | C15: Courge au romarin riz de Camargue et filet de saumon | D15: Couscouuuuus de bœuf | E15: Chayottes et Courgettes boulgour aux petits oignons et filet de Cabillaud | F15: Carottes et champignons pommes de terre et filet de poulet
B16: Petit Suisse | C16: Yaourt nature | D16: Fromage blanc nature | E16: Yaourt nature | F16: Petit Suisse
B17: Compote Pomme Figue Orange | C17: Compote Banane Poire Passiflore | D17: Compote Pomme Prune Questche | E17: Compote Poire Gingembre | F17: Compote Pomme Raisin Cannelle
A19: Bébés Texture "Purée" | B19: Mixé de Veau | C19: Mixé de Saumon | D19: Mixé de Bœuf | E19: Mixé de Cabillaud | F19: Mixé de Poulet
B20: Purée de Brocolis | C20: Purée de Courges | D20: Purée de Courgettes | E20: Purée de Chayotte | F20: Purée de Blanc de poireau
B21: Purée de pommes de terre | C21: Purée de patates douces | D21: Purée de pommes de terre | E21: Purée de patates douces | F21: Purée de pommes de terre
B22: Compote de Pommes | C22: Compote de Poires | D22: Compote Pomme Prune Questche | E22: Compote de Poires | F22: Compote de Pommes
B25: Bio (en vert non gras) | D25: Pêche Durable | E25: Indication géographique protégée | F25: Label Rouge
B26: Bio et Fait Maison (en vert et gras)
B27: Manipulant tous types d’aliments dans notre atelier de cuisine, traces possibles d'allergènes
B28: Pour les bébés et moyens : purées de carottes en complément possibles

Sheet S38 GOU
A1: GOUTERS
A2: Du 14 septembre au 18 septembre 2020
A3: Découverte de la Chayotte
A5: Tous les repas (entrées plats compotes) sont "FAIT MAISON" à partir de produits frais exclusivement (à l'exception des laitages fromages jus et biscuits) et majoritairement locaux (à l'exeption des poissons, bananes, laitages etc.)
B8: Lundi | C8: Mardi | D8: Mercredi | E8: Jeudi | F8: Vendredi
A10: Grands | B10: Compote Poire | C10: Fruit de saison | D10: Compote Pomme Pastèque Menthe | E10: Jus multifruit | F10: Fruit de saison
B11: Yaourt ar. À la vanille | C11: Petit Suisse | D11: Tapioca au lait | E11: Emmental | F11: Fromage frais à tartiner
B12: Boudoir | C12: Petit Beurre | E12: Biscuit bébé | F12: Biscotte
A14: Moyens & Bébés | B14: Compote Poire | C14: Compote de Pommes | D14: Compote Pomme Pastèque Menthe | E14: Jus multifruit | F14: Compote de Poire
B15: Yaourt nature | C15: Petit Suisse | D15: Tapioca au lait | E15: Fromage blanc | F15: Petit Suisse
B16: Boudoir | C16: Petit Beurre | E16: Biscuit bébé | F16: Boudoir
B19: Bio (en vert non gras) | D19: Pêche Durable | E19: Indication géographique protégée | F19: Label Rouge
B20: Bio et Fait Maison (en vert et gras)
B21: Manipulant tous types d’aliments dans notre atelier de cuisine, traces possibles d'allergènes
B22: Pour les bébés et moyens : purées de carottes en complément possibles

Sheet S39 DEJ
A1: DEJEUNERS
A2: Du 21 septembre au 25 septembre 2020
A3: Découverte du Melon Canari
A5: Tous les repas (entrées plats compotes) sont "FAIT MAISON" à partir de produits frais exclusivement (à l'exception des laitages fromages jus et biscuits) et majoritairement locaux (à l'exeption des poissons, bananes, laitages etc.)
B8: Lundi | C8: Mardi | D8: Mercredi | E8: Jeudi | F8: Vendredi
A10: Grands Texture "Morceaux" | B10: Carottes râpées au jus de citron | E10: Melon à la féta et aneth
B11: Courgettes pommes de terre au pesto et filet de saumon | C11: Veau Marengo revisité | D11: Pâtisson courgettes coquillettes au basilic et filet de poulet | E11: Courge butternut quinoa à l'échalotte et filet de bœuf à la coriandre | F11: Ratatouille de légumes boulgour et dos de Cabillaud
C12: Yaourt nature | D12: Coulommier | F12: Mimolette
B13: =B17 -> Compote Pomme Pastèque Eucalyptus | C13: Fruit de saison | D13: =D17 -> Compote Pomme Melon Canari | E13: =E17 -> Compote Pomme Raisin Cardamome | F13: Fruit de saison
A15: Moyens Texture "Ecrasé" | B15: =B11 -> Courgettes pommes de terre au pesto et filet de saumon | C15: =C11 -> Veau Marengo revisité | D15: =D11 -> Pâtisson courgettes coquillettes au basilic et filet de poulet | E15: =E11 -> Courge butternut quinoa à l'échalotte et filet de bœuf à la coriandre | F15: =F11 -> Ratatouille de légumes boulgour et dos de Cabillaud
B16: Petit Suisse | C16: Yaourt nature | D16: Fromage blanc nature | E16: Petit Suisse | F16: Yaourt nature
B17: Compote Pomme Pastèque Eucalyptus | C17: Compote Poire Réglisse | D17: Compote Pomme Melon Canari | E17: Compote Pomme Raisin Cardamome | F17: Compote Banane Pomme Epices
A19: Bébés Texture "Purée" | B19: Mixé de Saumon | C19: Mixé de Veau | D19: Mixé de Poulet | E19: Mixé de Bœuf | F19: Mixé de Cabillaud
B20: Purée de Courgettes | C20: Purée de Brocolis | D20: Purée de Pâtisson | E20: Purée de Courge butternut | F20: Purée de Haricots verts
B21: Purée de pommes de terre | C21: Purée de patates douces | D21: Purée de pommes de terre | E21: Purée de patates douces | F21: Purée de pommes de terre
B22: Compote de Pommes | C22: Compote de Poires | D22: Compote de Pommes ou Compote Pomme Melon Canari | E22: Compote de Poires | F22: Compote de Pommes
B25: Bio (en vert non gras) | D25: Pêche Durable | E25: Indication géographique protégée | F25: Label Rouge
B26: Bio et Fait Maison (en vert et gras)
B27: Manipulant tous types d’aliments dans notre atelier de cuisine, traces possibles d'allergènes
B28: Pour les bébés et moyens : purées de carottes en complément possibles

Sheet S39 GOU
A1: GOUTERS
A2: Du 21 septembre au 25 septembre 2020
A3: ='S39 DEJ'!A3:F3 -> Découverte du Melon Canari
A5: Tous les repas (entrées plats compotes) sont "FAIT MAISON" à partir de produits frais exclusivement (à l'exception des laitages fromages jus et biscuits) et majoritairement locaux (à l'exeption des poissons, bananes, laitages etc.)
B8: Lundi | C8: Mardi | D8: Mercredi | E8: Jeudi | F8: Vendredi
A10: Grands | B10: Fruits de saison | C10: Confiture | D10: Compote de Poire | E10: Compote Pomme Melon | F10: Fruits de saison
B11: Yaourt nature | C11: Pain | D11: Petit Suisse | E11: Yaourt nature | F11: Fromage Blanc
B12: Petit Beurre | C12: Verre de lait | D12: Biscuit Bébé | E12: Palmier | F12: Boudoir
A14: Moyens & Bébés | B14: Compote de Poire | C14: Compote de Pomme | D14: Compote de Poire | E14: Compote Pomme Melon | F14: Compote de Poire
B15: Yaourt nature | C15: Fromage Blanc | D15: Petit Suisse | E15: Yaourt nature | F15: Fromage Blanc
B16: Petit Beurre | C16: Quignon de pain | D16: Biscuit Bébé | E16: Petit Beurre | F16: Boudoir
B19: Bio (en vert non gras) | D19: Pêche Durable | E19: Indication géographique protégée | F19: Label Rouge
B20: Bio et Fait Maison (en vert et gras)
B21: Manipulant tous types d’aliments dans notre atelier de cuisine, traces possibles d'allergènes
B22: Pour les bébés et moyens : purées de carottes en complément possibles

Sheet S40 DEJ
A1: DEJEUNERS
A2: Du 28 septembre au 2 octobre 2020
A3: Découverte de la Patate Douce
A5: Tous les repas (entrées plats compotes) sont "FAIT MAISON" à partir de produits frais exclusivement (à l'exception des laitages fromages jus et biscuits) et majoritairement locaux (à l'exeption des poissons, bananes, laitages etc.)
B8: Lundi | C8: Mardi | D8: Mercredi | E8: Jeudi | F8: Vendredi
A10: Grands Texture "Morceaux" | B10: Tomates Mozzarella pointe de basilic | D10: Salade de Pâtes
B11: Courge spaghetti et semoule aux poivrons et sauté de veau | C11: Courgettes patate douce et filet de saumon | D11: Carottes au curry pommes de terre et poulet tandoori | E11: Légumes d'été pâtes à la cardamome et filet de bœuf | F11: Potiron boulgour et dos de Cabillaud
C12: =C16 -> Yaourt nature | D12: Emmental | E12: =E16 -> Fromage blanc nature | F12: Bleu d'Auvergne
B13: Fruit de saison | C13: =C17 -> Compote Pomme Melon Vanille | D13: =D17 -> Compote Banane Pomme Citronnelle | E13: Fruit de saison | F13: =E13 -> Fruit de saison
A15: Moyens Texture "Ecrasé" | B15: =B11 -> Courge spaghetti et semoule aux poivrons et sauté de veau | C15: =C11 -> Courgettes patate douce et filet de saumon | D15: =D11 -> Carottes au curry pommes de terre et poulet tandoori | E15: =E11 -> Légumes d'été pâtes à la cardamome et filet de bœuf | F15: =F11 -> Potiron boulgour et dos de Cabillaud
B16: Fromage blanc | C16: Yaourt nature | D16: Petit Suisse | E16: Fromage blanc nature | F16: Yaourt nature
B17: Compote Poire Verveine | C17: Compote Pomme Melon Vanille | D17: Compote Banane Pomme Citronnelle | E17: Compote Pomme Raisin Cardamome | F17: Compote Pomme Prune Menthe
A19: Bébés Texture "Purée" | B19: Mixé de Veau | C19: Mixé de Saumon | D19: Mixé de Poulet | E19: Mixé de Bœuf | F19: Mixé de Cabillaud
B20: Purée de Courge Spaghetti | C20: Purée de Courgettes | D20: Purée de Brocolis | E20: Purée de Blanc de Poireau | F20: Purée de Potiron
B21: Purée de pommes de terre | C21: Purée de patates douces | D21: Purée de pommes de terre | E21: Purée de patates douces | F21: Purée de pommes de terre
B22: Compote de Pommes | C22: Compote de Poires | D22: Compote de Pommes | E22: Compote de Poires | F22: =D22 -> Compote de Pommes
B25: Bio (en vert non gras) | D25: Pêche Durable | E25: Indication géographique protégée | F25: Label Rouge
B26: Bio et Fait Maison (en vert et gras)
B27: Manipulant tous types d’aliments dans notre atelier de cuisine, traces possibles d'allergènes
B28: Pour les bébés et moyens : purées de carottes en complément possibles

Sheet S40 GOU
A1: GOUTERS
A2: ='S40 DEJ'!A2:F2 -> Du 28 septembre au 2 octobre 2020
A3: ='S40 DEJ'!A3:F3 -> Découverte de la Patate Douce
A5: Tous les repas (entrées plats compotes) sont "FAIT MAISON" à partir de produits frais exclusivement (à l'exception des laitages fromages jus et biscuits) et majoritairement locaux (à l'exeption des poissons, bananes, laitages etc.)
B8: Lundi | C8: Mardi | D8: Mercredi | E8: Jeudi | F8: Vendredi
A10: Grands | B10: Compote de Pomme | C10: Fruit de saison | D10: Fruit de saison | E10: Compote de Poire | F10: Fruit de saison
B11: Petit Suisse | C11: Fromage blanc nature | D11: Yaourt nature | E11: Fromage fondu nature | F11: Fromage blanc nature
B12: Barquette à la fraise | C12: Madeleines | D12: Palmier | E12: Pain | F12: Biscuit Bébé
A14: Moyens & Bébés | B14: Compote de Pomme | C14: Compote de Poire | D14: Compote de Pomme | E14: Compote de Poire | F14: Compote de Pomme
B15: Petit Suisse | C15: Fromage blanc nature | D15: Yaourt nature | E15: Petit Suisse | F15: =C15 -> Fromage blanc nature
B16: Biscuit Bébé | C16: Madeleines | D16: Boudoir | E16: Quignon de pain | F16: Biscuit Bébé
B19: Bio (en vert non gras) | D19: Pêche Durable | E19: Indication géographique protégée | F19: Label Rouge
B20: Bio et Fait Maison (en vert et gras)
B21: Manipulant tous types d’aliments dans notre atelier de cuisine, traces possibles d'allergènes
B22: Pour les bébés et moyens : purées de carottes en complément possibles

Sheet S41-DEJ
A3: MENUS
A4: Du 05 au 09 Octobre 2026
A5: Découverte du Piment de Jamaïque
B7: Lundi | C7: Mardi | D7: Mercredi | E7: Jeudi | F7: Vendredi
A9: Grands Texture "Morceaux" | B9: Salade de Pâtes (Gluten) au basilic et citron | C9: Velouté de carottes | F9: Velouté de Céleri rave façon rémoulade (Lait, Moutarde, Sulfite, Céleri)
B10: Brocolis au cumin, Riz façon pilaf et Poisson du jour* | C10: Carotte,Poireau,Navet, Millet décortiqué à la cannelle et Mijoté de Bœuf à la coriandre | D10: Epinard à la crème* (lait), Pomme de terre au Piment de Jamaïque et Poulet | E10: Carottes et Panais à la citronnelle, Blé* (Blé) en persillade et Poisson du jour* | F10: Courge à la vanille, Polenta à l'huile d'olive et Haricot blanc à la sauce tomate
A11: Goûter | B11: Compote Pomme Ananas | C11: Compote Pomme Nashi | D11: Compote Pomme Figue | E11: Compote Pomme Kaki | F11: Compote Pomme Coing
A13: Moyens Texture "Ecrasé" | B13: Brocolis au cumin, Riz façon pilaf et Mixé de Poisson du jour* | C13: Carotte,Poireau,Navet, Millet décortiqué à la cannelle et Mixé de Bœuf à la coriandre | D13: Epinard à la crème* (lait), Pomme de terre au Piment de Jamaïque et Mixé de Poulet | E13: Carottes et Panais à la citronnelle, Blé* (Blé) en persillade et Mixé de Poisson du jour* | F13: Courge à la vanille, Polenta à la tomate et Mixé de Poulet
A14: Goûter | B14: Compote Pomme Ananas | C14: Compote Pomme Nashi | D14: Compote Pomme Figue | E14: Compote Pomme Kaki | F14: Compote Pomme Coing
A16: Bébés Texture "Purée" | B16: Mixé de Poisson du jour* | C16: Mixé de Boeuf | D16: Mixé de Poulet | E16: Mixé de Poisson du jour* | F16: Mixé de Poulet
B17: Purée de Brocolis | C17: Purée de Blanc de poireau | D17: Purée d'Epinard | E17: Purée de Carottes | F17: Purée de Courge
B18: Purée de lentille corail | C18: Purée de Patate douce | D18: Purée de Pomme de terre | E18: Purée de Pois Cassées | F18: Purée de lentilles vertes
A19: Goûter | B19: Compote Pomme Ananas | C19: Compote Pomme Nashi | D19: Compote Pomme Figue | E19: Compote Pomme Kaki | F19: Compote Pomme Coing
A21: Introduction | B21: =B17 -> Purée de Brocolis | C21: =C17 -> Purée de Blanc de poireau | D21: =D17 -> Purée d'Epinard | E21: =E17 -> Purée de Carottes | F21: =F17 -> Purée de Courge
A22: Goûter | B22: =B19 -> Compote Pomme Ananas | C22: =C19 -> Compote Pomme Nashi | D22: =D19 -> Compote Pomme Figue | E22: =E19 -> Compote Pomme Kaki | F22: =F19 -> Compote Pomme Coing
B24: Bio (en vert non gras) | C24: Bio et Fait Maison (en vert et gras) | D24: Tous les Poissons : NON BIO | E24: Recette végétarienne | F24: (lait) ou * Allergènes à déclaration obligatoire
B25: Manipulant tous types d’aliments dans notre atelier de cuisine, traces possibles d'allergènes
B26: Toutes nos viandes sont d'origine française

Sheet S42-DEJ
A3: MENUS
A4: Du 12 au 16 Octobre 2026
A5: SEMAINE DU GOÛT: Les Couleurs sont à L'honneur
A6: Découverte de la Baie de Genièvre et Griotte
B7: Lundi | C7: Mardi | D7: Mercredi | E7: Jeudi | F7: Vendredi
B8: JAUNE | C8: ROUGE | D8: MARRON | E8: VERT | F8: VIOLET
A9: Grands Texture "Morceaux" | B9: Soupe au caillou (navet carotte poireau pomme de terre au curcuma) | D9: Soupe de légumes de saison (légumes variés) | F9: Salade de Betterave au citron vert
B10: Navets boule d'or, Quinoa et Poulet à la moutarde à l'ancienne* (Sulfite) | C10: Carottes au jus de raisin rouge, pomme de terre au paprika et Poisson du jour* à la sauce tomate | D10: Chou-fleur au baie de genièvre, semoule de petit épeautre (Gluten)et lentilles vertes aux petits oignons | E10: Brocolis et Pâte* (Blé) façon tartiflette* (Brie, Munster et Crème)*(lait) et Bœuf | F10: Carottes Violettes à l'orange, Millet decortiqué à l'huile d'olive et Poisson du jour*
A11: Goûter | B11: Compote Pomme Mirabelle | C11: Compote Pomme Griotte | D11: Compote Pomme Banane Cacao | E11: Compote Pomme Citron Vert Basilic | F11: Compote Pomme Figue Raisin Rouge
A13: Moyens Texture "Ecrasé" | B13: Navets boule d'or, Quinoa à la moutarde à l'ancienne* (Sulfite) et Mixé de Poulet | C13: Carottes au jus de raisin rouge, pomme de terre au paprika et à la sauce tomate et mixé de Poisson du jour* | D13: Chou-fleur au baie de genièvre, semoule de petit épeautre (Gluten)et mixé de Poulet | E13: Brocolis et Pâte* (Blé) façon tartiflette* (Brie, Munster et Crème)*(lait) et Mixé de Bœuf | F13: Carottes Violettes à l'orange, Millet decortiqué à l'huile d'olive et Mixé de Poisson du jour*
A14: Goûter | B14: Compote Pomme Mirabelle | C14: Compote Pomme Griotte | D14: Compote Pomme Banane Cacao | E14: Compote Pomme Citron Vert Basilic | F14: Compote Pomme Figue Raisin Rouge
A16: Bébés Texture "Purée" | B16: Mixé de Poulet | C16: Mixé de Poisson du jour* | D16: Mixé de Poulet | E16: Mixé de Bœuf | F16: Mixé de Poisson du jour*
B17: Navets boule d'or | C17: Purée de Carottes | D17: Purée de Chou fleur | E17: Purée de Brocolis | F17: Purée de Courge
B18: Purée de Lentilles Corail | C18: Purée de Patate Douce | D18: Purée de Lentilles Brune | E18: Purée de Pois Cassées | F18: Purée de Pommes de terre
A19: Goûter | B19: Compote Pomme Mirabelle | C19: Compote Pomme Griotte | D19: Compote Pomme Banane | E19: Compote Pomme | F19: Compote Pomme Figue
A21: Introduction | B21: Navets boule d'or | C21: =C17 -> Purée de Carottes | D21: =D17 -> Purée de Chou fleur | E21: =E17 -> Purée de Brocolis | F21: =F17 -> Purée de Courge
A22: Goûter | B22: =B19 -> Compote Pomme Mirabelle | C22: =C19 -> Compote Pomme Griotte | D22: =D19 -> Compote Pomme Banane | E22: =E19 -> Compote Pomme | F22: =F19 -> Compote Pomme Figue
B25: Bio (en vert non gras) | C25: Bio et Fait Maison (en vert et gras) | D25: Tous les Poissons : NON BIO | E25: Recette végétarienne | F25: (lait) ou * Allergènes à déclaration obligatoire
B26: Manipulant tous types d’aliments dans notre atelier de cuisine, traces possibles d'allergènes
B27: Toutes nos viandes sont d'origine française

Sheet S37 DEJ
A1: DEJEUNERS
A2: Du 7 septembre au 11 septembre 2020
A3: Découverte de la Figue
A5: Tous les repas (entrées plats compotes) sont "FAIT MAISON" à partir de produits frais exclusivement (à l'exception des laitages fromages jus et biscuits) et majoritairement locaux (à l'exeption des poissons, bananes, laitages etc.)
B8: Lundi | C8: Mardi | D8: Mercredi | E8: Jeudi | F8: Vendredi
A10: Grands Texture "Morceaux" | B10: Salade de millet aux petits légumes | D10: Salade de concombres à la menthe | F10: Tomates vinaigrette
B11: Pâtisson et courgettes à l’aneth, riz de Camargue au romarin et sauté de bœuf | C11: Chorba marocaine revisitée au poulet | D11: Aioiliiii de septembre au Cabillaud | E11: Potimarron à la muscade semoule aux herbes de Provence et sauté de veau | F11: Petite Blanquette au Saumon
C12: Camembert | D12: Petit Suisse | E12: Emmental | F12: Yaourt nature
B13: Fruit de saison | C13: Compote Pomme Figue | D13: Fruit de saison | E13: Fruit de saison | F13: Compote Poire Prune
A15: Moyens Texture "Ecrasé" | B15: Pâtisson et courgettes à l’aneth, riz de Camargue au romarin et sauté de bœuf | C15: Chorba marocaine revisitée au poulet (carottes navets tomates poireau pdt vermicelles conc. tom. céleri persil coriandre oignons curcuma) | D15: Aioiliiii de septembre au Cabillaud | E15: Potimarron à la muscade semoule aux herbes de Provence et sauté de veau | F15: Petite Blanquette au Saumon
B16: Yaourt nature | C16: Fromage blanc nature | D16: Petit Suisse | E16: Fromage blanc nature | F16: Yaourt nature
B17: Compote Pomme Pastèque Basilic | C17: Compote Pomme Figue | D17: Compote Pomme Verveine | E17: Compote Banane Pomme Citron | F17: Compote Poire Prune
A19: Bébés Texture "Purée" | B19: Mixé de Bœuf | C19: Mixé de Poulet | D19: Mixé de Cabillaud | E19: Mixé de Veau | F19: Mixé de Saumon
B20: Purée de Pâtisson | C20: Purée de Blanc de Poireau | D20: Purée de Haricots verts | E20: Purée de Potimarron | F20: Purée de Courgettes
B21: Purée de pommes de terre | C21: Purée de patates douces | D21: Purée de pommes de terre | E21: Purée de pommes de terre | F21: Purée de patates douces
B22: Compote de Pommes | C22: Compote Pomme Figue | D22: Compote de Pommes | E22: Compote de Poires | F22: Compote de Pommes
B25: Bio (en vert non gras) | D25: Pêche Durable | E25: Indication géographique protégée | F25: Label Rouge
B26: Bio et Fait Maison (en vert et gras)
B27: Manipulant tous types d’aliments dans notre atelier de cuisine, traces possibles d'allergènes
B28: Pour les bébés et moyens : purées de carottes en complément possibles

Sheet S43-DEJ
A3: MENUS
A4: Du 19 au 23 Octobre 2026
A5: Découverte du Kaki et de la Châtaigne
B7: Lundi | C7: Mardi | D7: Mercredi | E7: Jeudi | F7: Vendredi
A9: Grands Texture "Morceaux" | B9: Soupe du Bush (Carottes oignon ail céleri* romarin et PDT) | E9: Mouliné de légumes d'automne (poireau, potimarron, pomme de terre) | F9: Taboulé libanais (Quinoa, tomates, persil, oignon blanc, menthe et citron)
B10: Courge au thym, Polenta à la tomate et poisson du jour* | C10: Carottes en persillade, Pomme de terre à l'huile d'olive et Bœuf | D10: Epinards à la crème (lait) quinoa poisson du jour* à l'aneth | E10: Chou fleur au curcuma, riz à l'huile d'olive et au citron et Poulet à l'estragon | F10: Brocolis à l'ail, Crozets (blé,oeufs) au bouillon de légumes et lentilles vertes à l'asiatique (gingembre, coriandre et citronnelle)
A11: Goûter | B11: Compote Pomme Kaki | C11: Compote Pomme Prune aux 4 épices | D11: Compote Pomme Châtaigne | E11: Compote Pomme Banane Badiane | F11: Compote Pomme Coing Citron
A13: Moyens Texture "Ecrasé" | B13: Courge au thym, Polenta à la tomate et Mixé de poisson du jour* | C13: Carottes en persillade, Pomme de terre à l'huile d'olive et Mixé de Bœuf | D13: Epinards à la crème (lait) quinoa à l'aneth Mixé de poisson du jour* | E13: Chou fleur au curcuma et estragon, riz à l'huile d'olive et au citron et Mixé de Poulet | F13: Brocolis à l'ail, Crozets (blé,oeufs) au bouillon asiatique (gingembre, coriandre et citronnelle) et Mixé de Poulet
A14: Goûter | B14: Compote Pomme Kaki | C14: Compote Pomme Prune aux 4 épices | D14: Compote Pomme Châtaigne | E14: Compote Pomme Banane Badiane | F14: Compote Pomme Coing Citron
A16: Bébés Texture "Purée" | B16: Mixé de Poisson du jour* | C16: Mixé de Bœuf | D16: Mixé de Poisson du jour* | E16: Mixé de Poulet | F16: Mixé de Poulet
B17: Purée de Courge | C17: Purée de Carottes | D17: Purée d'Epinard | E17: Purée de Chou-fleur | F17: Purée de Brocolis
B18: Purée de Pois Cassés | C18: Purée de pommes de terre | D18: Purée de Lentilles Corail | E18: Purée de patates douces | F18: Purée de Lentilles Vertes
A19: Goûter | B19: Compote Pomme Kaki | C19: Compote Pomme Prune | D19: Compote Pomme | E19: Compote Pomme Banane | F19: Compote Pomme Coing
A21: Introduction | B21: Purée de Courge | C21: =C17 -> Purée de Carottes | D21: =D17 -> Purée d'Epinard | E21: =E17 -> Purée de Chou-fleur | F21: =F17 -> Purée de Brocolis
A22: Goûter | B22: =B19 -> Compote Pomme Kaki | C22: =C19 -> Compote Pomme Prune | D22: Compote Pomme | E22: =E19 -> Compote Pomme Banane | F22: =F19 -> Compote Pomme Coing
B25: Bio (en vert non gras) | C25: Bio et Fait Maison (en vert et gras) | D25: Tous les Poissons : NON BIO | E25: Recette végétarienne | F25: (lait) ou * Allergènes à déclaration obligatoire
B26: Manipulant tous types d’aliments dans notre atelier de cuisine, traces possibles d'allergènes
B27: Toutes nos viandes sont d'origine française

Sheet S44-DEJ 
A3: MENUS
A4: Du 26 au 30 Octobre 2026
A5: Découverte du Bleu
B7: Lundi | C7: Mardi | D7: Mercredi | E7: Jeudi | F7: Vendredi
A9: Grands Texture "Morceaux" | C9: Velouté de Mamie ( Légumes variés) | D9: Velouté de chou-fleur à la mimolette (lait)* | F9: Salade de Pomme de terre à l'ail
B10: Epinards à la crème de bleu (lait)* Pomme de terre et poisson du jour* | C10: Dahl de lentilles corail, Chou vert braisé et Riz | D10: Poireaux à la béchamel (Lait), Riz et Poisson du jour* | E10: Courge, Pâtes* (Blé) et Carbonade de Bœuf (moutarde) | F10: Carottes, Poireau à la muscade et Quinoa au Bouillon de légumes et Poulet
A11: Goûter | B11: Compote Pomme Cannelle | C11: Compote Pomme Rooïbos | D11: Compote Pomme Ananas | E11: Compote Pomme Clémentine | F11: Compote Pomme Poire cacao
A13: Moyens Texture "Ecrasé" | B13: Epinards à la crème de bleu (lait)* Pomme de terre et Mixé de poisson du jour* | C13: Chou vert braisé, Riz et Mixé de poulet | D13: Poireaux à la béchamel (Lait), Riz et Mixé de Poisson du jour* | E13: Courge, Pâtes* (Blé) et Carbonade de Bœuf (moutarde) | F13: Carottes, Poireau à la muscade et Quinoa au bouillon de légumes et mixé de Poulet
A14: Goûter | B14: Compote Pomme Cannelle | C14: Compote Pomme Rooïbos | D14: Compote Pomme Ananas | E14: Compote Pomme Clémentine | F14: Compote Pomme Poire cacao
A16: Bébés Texture "Purée" | B16: Mixé de Poisson du jour* | C16: Mixé de Poulet | D16: Mixé de Poisson du jour* | E16: Mixé de Boeuf | F16: Mixé de Poulet
B17: Purée d'Epinards | C17: Purée de brocolis | D17: Purée de Blanc de Poireaux | E17: Purée de Courge | F17: Purée de Carottes
B18: Purée de Pommes de terre | C18: Purée de Lentilles Corail | D18: Purée de Pois Cassés | E18: Purée de Polenta Fine | F18: Purée de Patates douces
A19: Goûter | B19: Compote Pomme | C19: Compote Pomme | D19: Compote Pomme Ananas | E19: Compote Pomme Clémentine | F19: Compote Pomme Poire
A21: Introduction | B21: =B17 -> Purée d'Epinards | C21: =C17 -> Purée de brocolis | D21: =D17 -> Purée de Blanc de Poireaux | E21: =E17 -> Purée de Courge | F21: =F17 -> Purée de Carottes
A22: Goûter | B22: =B19 -> Compote Pomme | C22: =C19 -> Compote Pomme | D22: =D19 -> Compote Pomme Ananas | E22: =E19 -> Compote Pomme Clémentine | F22: =F19 -> Compote Pomme Poire
B25: Bio (en vert non gras) | C25: Bio et Fait Maison (en vert et gras) | D25: Tous les Poissons : NON BIO | E25: Recette végétarienne | F25: (lait) ou * Allergènes à déclaration obligatoire
B26: Manipulant tous types d’aliments dans notre atelier de cuisine, traces possibles d'allergènes
B27: Toutes nos viandes sont d'origine française

Sheet Allergènes
B1: Allergènes
B2: Gluten | C2: Lait | D2: Poissons | E2: Céleri | F2: Crustacés | G2: Soja | H2: Sésame | I2: Sulfites | J2: Oeufs | K2: Fruits à coques | L2: Lupin | M2: Mollusques | N2: Arachides | O2: Moutarde
A4: ='S41-DEJ'!A4:F4 -> Du 05 au 09 Octobre 2026
A5: ='S41-DEJ'!B9 -> Salade de Pâtes (Gluten) au basilic et citron | B5: X
A6: ='S41-DEJ'!C9 -> Velouté de carottes
A7: ='S41-DEJ'!F9 -> Velouté de Céleri rave façon rémoulade (Lait, Moutarde, Sulfite, Céleri) | C7: X | E7: X | I7: X | O7: X
A8: =+'S41-DEJ'!B13 -> Brocolis au cumin, Riz façon pilaf et Mixé de Poisson du jour* | D8: X
A9: ='S41-DEJ'!$C$13 -> Carotte,Poireau,Navet, Millet décortiqué à la cannelle et Mixé de Bœuf à la coriandre
A10: ='S41-DEJ'!$D$13 -> Epinard à la crème* (lait), Pomme de terre au Piment de Jamaïque et Mixé de Poulet | C10: X
A11: ='S41-DEJ'!E13 -> Carottes et Panais à la citronnelle, Blé* (Blé) en persillade et Mixé de Poisson du jour* | B11: X | D11: X
A12: ='S41-DEJ'!$F$13 -> Courge à la vanille, Polenta à la tomate et Mixé de Poulet
A13: =+'S41-DEJ'!B11 -> Compote Pomme Ananas
A14: ='S41-DEJ'!C11 -> Compote Pomme Nashi
A15: =+'S41-DEJ'!D11 -> Compote Pomme Figue
A16: ='S41-DEJ'!E11 -> Compote Pomme Kaki
A17: ='S41-DEJ'!F11 -> Compote Pomme Coing
A18: ='S41-DEJ'!B16 -> Mixé de Poisson du jour* | D18: X
A19: ='S41-DEJ'!C16 -> Mixé de Boeuf
A20: ='S41-DEJ'!D16 -> Mixé de Poulet
A21: ='S41-DEJ'!E16 -> Mixé de Poisson du jour* | D21: X
A22: ='S41-DEJ'!F16 -> Mixé de Poulet
A23: ='S41-DEJ'!B17 -> Purée de Brocolis
A24: ='S41-DEJ'!C17 -> Purée de Blanc de poireau
A25: ='S41-DEJ'!D17 -> Purée d'Epinard
A26: ='S41-DEJ'!E17 -> Purée de Carottes
A27: ='S41-DEJ'!F17 -> Purée de Courge
A28: Purée de pommes de terre
A29: Purée de patates douces
A30: Compote de Pommes
A31: Compote de Poires
A33: ='S42-DEJ'!A4:F4 -> Du 12 au 16 Octobre 2026
A34: ='S42-DEJ'!B9 -> Soupe au caillou (navet carotte poireau pomme de terre au curcuma)
A35: ='S42-DEJ'!D9 -> Soupe de légumes de saison (légumes variés)
A36: ='S42-DEJ'!F9 -> Salade de Betterave au citron vert
A37: ='S42-DEJ'!B10 -> Navets boule d'or, Quinoa et Poulet à la moutarde à l'ancienne* (Sulfite) | I37: X | O37: X
A38: ='S42-DEJ'!C13 -> Carottes au jus de raisin rouge, pomme de terre au paprika et à la sauce tomate et mixé de Poisson du jour* | D38: X
A39: ='S42-DEJ'!D13 -> Chou-fleur au baie de genièvre, semoule de petit épeautre (Gluten)et mixé de Poulet | B39: X
A40: ='S42-DEJ'!E13 -> Brocolis et Pâte* (Blé) façon tartiflette* (Brie, Munster et Crème)*(lait) et Mixé de Bœuf | B40: X | C40: X
A41: ='S42-DEJ'!F13 -> Carottes Violettes à l'orange, Millet decortiqué à l'huile d'olive et Mixé de Poisson du jour* | D41: X
A42: =+'S42-DEJ'!B11 -> Compote Pomme Mirabelle
A43: =+'S42-DEJ'!C11 -> Compote Pomme Griotte
A44: =+'S42-DEJ'!D11 -> Compote Pomme Banane Cacao
A45: =+'S42-DEJ'!E11 -> Compote Pomme Citron Vert Basilic
A46: =+'S42-DEJ'!F11 -> Compote Pomme Figue Raisin Rouge
A47: =+'S42-DEJ'!B16 -> Mixé de Poulet
A48: =+'S42-DEJ'!C16 -> Mixé de Poisson du jour* | D48: X
A49: =+'S42-DEJ'!D16 -> Mixé de Poulet
A50: =+'S42-DEJ'!E16 -> Mixé de Bœuf
A51: =+'S42-DEJ'!F16 -> Mixé de Poisson du jour* | D51: X
A52: =+'S42-DEJ'!B17 -> Navets boule d'or
A53: =+'S42-DEJ'!C17 -> Purée de Carottes
A54: =+'S42-DEJ'!D17 -> Purée de Chou fleur
A55: =+'S42-DEJ'!E17 -> Purée de Brocolis
A56: =+'S42-DEJ'!F17 -> Purée de Courge
A57: Purée de pommes de terre
A58: Purée de patates douces
A59: Compote de Pommes
A60: Compote de Poires
A61: ='S42-DEJ'!C12 -> 0
A62: ='S43-DEJ'!A4:F4 -> Du 19 au 23 Octobre 2026
A63: ='S43-DEJ'!B9 -> Soupe du Bush (Carottes oignon ail céleri* romarin et PDT) | E63: X
A64: ='S43-DEJ'!E9 -> Mouliné de légumes d'automne (poireau, potimarron, pomme de terre)
A65: ='S43-DEJ'!F9 -> Taboulé libanais (Quinoa, tomates, persil, oignon blanc, menthe et citron)
A66: =+'S43-DEJ'!B13 -> Courge au thym, Polenta à la tomate et Mixé de poisson du jour* | D66: X
A67: =+'S43-DEJ'!C10 -> Carottes en persillade, Pomme de terre à l'huile d'olive et Bœuf
A68: =+'S43-DEJ'!D13 -> Epinards à la crème (lait) quinoa à l'aneth Mixé de poisson du jour* | C68: X | D68: X
A69: =+'S43-DEJ'!E10 -> Chou fleur au curcuma, riz à l'huile d'olive et au citron et Poulet à l'estragon
A70: =+'S43-DEJ'!F13 -> Brocolis à l'ail, Crozets (blé,oeufs) au bouillon asiatique (gingembre, coriandre et citronnelle) et Mixé de Poulet | B70: X | J70: X
A71: =+'S43-DEJ'!B14 -> Compote Pomme Kaki
A72: ='S43-DEJ'!C14 -> Compote Pomme Prune aux 4 épices
A73: ='S43-DEJ'!D14 -> Compote Pomme Châtaigne
A74: ='S43-DEJ'!E14 -> Compote Pomme Banane Badiane
A75: ='S43-DEJ'!F14 -> Compote Pomme Coing Citron
A76: ='S43-DEJ'!B16 -> Mixé de Poisson du jour* | D76: X
A77: ='S43-DEJ'!C16 -> Mixé de Bœuf
A78: ='S43-DEJ'!D16 -> Mixé de Poisson du jour* | D78: X
A79: ='S43-DEJ'!E16 -> Mixé de Poulet
A80: ='S43-DEJ'!F16 -> Mixé de Poulet
A81: ='S43-DEJ'!B17 -> Purée de Courge
A82: ='S43-DEJ'!C17 -> Purée de Carottes
A83: ='S43-DEJ'!D17 -> Purée d'Epinard
A84: ='S43-DEJ'!E17 -> Purée de Chou-fleur
A85: ='S43-DEJ'!F17 -> Purée de Brocolis
A86: Purée de pommes de terre
A87: Purée de patates douces
A88: Compote de Pommes
A89: Compote de Poires
A90: {='S44-DEJ '!A4:F4} -> Du 26 au 30 Octobre 2026 | B90: 0 | C90: 0 | D90: 0 | E90: 0 | F90: 0
A91: ='S44-DEJ '!C9 -> Velouté de Mamie ( Légumes variés)
A92: ='S44-DEJ '!D9 -> Velouté de chou-fleur à la mimolette (lait)* | C92: X
A93: ='S44-DEJ '!F9 -> Salade de Pomme de terre à l'ail
A94: ='S44-DEJ '!B10 -> Epinards à la crème de bleu (lait)* Pomme de terre et poisson du jour* | C94: X | D94: X
A95: ='S44-DEJ '!C13 -> Chou vert braisé, Riz et Mixé de poulet
A96: ='S44-DEJ '!D13 -> Poireaux à la béchamel (Lait), Riz et Mixé de Poisson du jour* | C96: X | D96: X
A97: ='S44-DEJ '!E13 -> Courge, Pâtes* (Blé) et Carbonade de Bœuf (moutarde) | B97: X | O97: X
A98: ='S44-DEJ '!F13 -> Carottes, Poireau à la muscade et Quinoa au bouillon de légumes et mixé de Poulet
A99: ='S44-DEJ '!B14 -> Compote Pomme Cannelle
A100: ='S44-DEJ '!C14 -> Compote Pomme Rooïbos
A101: ='S44-DEJ '!D14 -> Compote Pomme Ananas
A102: ='S44-DEJ '!E14 -> Compote Pomme Clémentine
...
